BEGIN:VCALENDAR
VERSION:2.0
X-WR-CALNAME:MATH 200C (A00) - Algebra III
METHOD:PUBLISH
BEGIN:VEVENT
ORGANIZER:
DTSTART:20250610T150000Z
DTEND:20250610T175900Z
LOCATION: TBA
UID:220260423T235100Z
DTSTAMP:20260423T235100Z
SUMMARY:MATH 200C (A00) (FI)
DESCRIPTION:
PRIORITY:5
CLASS:PUBLIC
END:VEVENT
END:VCALENDAR