BEGIN:VCALENDAR
VERSION:2.0
X-WR-CALNAME:CHEM 11 (A00) - The Periodic Table
METHOD:PUBLISH
BEGIN:VEVENT
ORGANIZER:
DTSTART:20250612T020000Z
DTEND:20250612T045900Z
LOCATION: TBA
UID:820260424T003755Z
DTSTAMP:20260424T003755Z
SUMMARY:CHEM 11 (A00) (FI)
DESCRIPTION:
PRIORITY:5
CLASS:PUBLIC
END:VEVENT
END:VCALENDAR