BEGIN:VCALENDAR
VERSION:2.0
X-WR-CALNAME:COGS 186 (A00) - Genetic Algorithms
METHOD:PUBLISH
BEGIN:VEVENT
ORGANIZER:
DTSTART:20220903T150000Z
DTEND:20220903T175900Z
LOCATION: TBA
UID:320260423T230226Z
DTSTAMP:20260423T230226Z
SUMMARY:COGS 186 (A00) (FI)
DESCRIPTION:
PRIORITY:5
CLASS:PUBLIC
END:VEVENT
END:VCALENDAR