BEGIN:VCALENDAR
VERSION:2.0
X-WR-CALNAME:LTCS 111 (A00) - Topics/Pop Culture/Historical
METHOD:PUBLISH
BEGIN:VEVENT
ORGANIZER:
DTSTART:20250612T183000Z
DTEND:20250612T212900Z
LOCATION: TBA
UID:220260423T233717Z
DTSTAMP:20260423T233717Z
SUMMARY:LTCS 111 (A00) (FI)
DESCRIPTION:
PRIORITY:5
CLASS:PUBLIC
END:VEVENT
END:VCALENDAR