BEGIN:VCALENDAR
VERSION:2.0
X-WR-CALNAME:FMPH 440 (A00) - Intro to Health Economics
METHOD:PUBLISH
BEGIN:VEVENT
ORGANIZER:
DTSTART:20250613T220000Z
DTEND:20250614T005900Z
LOCATION: TBA
UID:220260424T001210Z
DTSTAMP:20260424T001210Z
SUMMARY:FMPH 440 (A00) (FI)
DESCRIPTION:
PRIORITY:5
CLASS:PUBLIC
END:VEVENT
END:VCALENDAR