BEGIN:VCALENDAR
VERSION:2.0
X-WR-CALNAME:CHIN 20BD (A00) - Second-Yr Chinese/Dialect II
METHOD:PUBLISH
BEGIN:VEVENT
ORGANIZER:
DTSTART:20250318T150000Z
DTEND:20250318T175900Z
LOCATION: TBA
UID:420260423T233613Z
DTSTAMP:20260423T233613Z
SUMMARY:CHIN 20BD (A00) (FI)
DESCRIPTION:
PRIORITY:5
CLASS:PUBLIC
END:VEVENT
END:VCALENDAR