BEGIN:VCALENDAR
VERSION:2.0
X-WR-CALNAME:SIOB 296 (A00) - Special Topics/Ocean Bio
METHOD:PUBLISH
BEGIN:VEVENT
ORGANIZER:
DTSTART:20250317T150000Z
DTEND:20250317T175900Z
LOCATION: TBA
UID:220260424T130614Z
DTSTAMP:20260424T130614Z
SUMMARY:SIOB 296 (A00) (FI)
DESCRIPTION:
PRIORITY:5
CLASS:PUBLIC
END:VEVENT
END:VCALENDAR