BEGIN:VCALENDAR
VERSION:2.0
X-WR-CALNAME:HUM 1 (C00) - Foundatns/West Civ:Israel&Grce
METHOD:PUBLISH
BEGIN:VEVENT
ORGANIZER:
DTSTART:20250320T220000Z
DTEND:20250321T005900Z
LOCATION: TBA
UID:1620260423T230626Z
DTSTAMP:20260423T230626Z
SUMMARY:HUM 1 (C00) (FI)
DESCRIPTION:
PRIORITY:5
CLASS:PUBLIC
END:VEVENT
END:VCALENDAR