BEGIN:VCALENDAR
VERSION:2.0
X-WR-CALNAME:MATH 181E (A00) - Mathemat Statistic-Time Series
METHOD:PUBLISH
BEGIN:VEVENT
ORGANIZER:
DTSTART:20250317T183000Z
DTEND:20250317T212900Z
LOCATION: TBA
UID:420260423T234130Z
DTSTAMP:20260423T234130Z
SUMMARY:MATH 181E (A00) (FI)
DESCRIPTION:
PRIORITY:5
CLASS:PUBLIC
END:VEVENT
END:VCALENDAR