BEGIN:VCALENDAR
VERSION:2.0
X-WR-CALNAME:ECE 65 (A00) - Components & Circuits Lab
METHOD:PUBLISH
BEGIN:VEVENT
ORGANIZER:
DTSTART:20250321T183000Z
DTEND:20250321T212900Z
LOCATION: TBA
UID:1020260423T234039Z
DTSTAMP:20260423T234039Z
SUMMARY:ECE 65 (A00) (FI)
DESCRIPTION:
PRIORITY:5
CLASS:PUBLIC
END:VEVENT
END:VCALENDAR