BEGIN:VCALENDAR
VERSION:2.0
X-WR-CALNAME:ECON 231 (A00) - Pub Econ:Pub Goods/Externality
METHOD:PUBLISH
BEGIN:VEVENT
ORGANIZER:
DTSTART:20250319T150000Z
DTEND:20250319T175900Z
LOCATION: TBA
UID:220260424T005608Z
DTSTAMP:20260424T005608Z
SUMMARY:ECON 231 (A00) (FI)
DESCRIPTION:
PRIORITY:5
CLASS:PUBLIC
END:VEVENT
END:VCALENDAR