BEGIN:VCALENDAR
VERSION:2.0
X-WR-CALNAME:DSE 241 (A00) - Data Visualization
METHOD:PUBLISH
BEGIN:VEVENT
ORGANIZER:
DTSTART:20250319T150000Z
DTEND:20250319T175900Z
LOCATION: TBA
UID:220260423T235553Z
DTSTAMP:20260423T235553Z
SUMMARY:DSE 241 (A00) (FI)
DESCRIPTION:
PRIORITY:5
CLASS:PUBLIC
END:VEVENT
END:VCALENDAR