BEGIN:VCALENDAR
VERSION:2.0
X-WR-CALNAME:COMM 114I (A00) - CSI: Media Tech&Social Mvments
METHOD:PUBLISH
BEGIN:VEVENT
ORGANIZER:
DTSTART:20250318T183000Z
DTEND:20250318T212900Z
LOCATION: TBA
UID:220260423T234137Z
DTSTAMP:20260423T234137Z
SUMMARY:COMM 114I (A00) (FI)
DESCRIPTION:
PRIORITY:5
CLASS:PUBLIC
END:VEVENT
END:VCALENDAR