BEGIN:VCALENDAR
VERSION:2.0
X-WR-CALNAME:BENG 191 (A00) - Senior Sem I: Professnl Issues
METHOD:PUBLISH
BEGIN:VEVENT
ORGANIZER:
DTSTART:20250319T183000Z
DTEND:20250319T212900Z
LOCATION: TBA
UID:220260423T234038Z
DTSTAMP:20260423T234038Z
SUMMARY:BENG 191 (A00) (FI)
DESCRIPTION:
PRIORITY:5
CLASS:PUBLIC
END:VEVENT
END:VCALENDAR