BEGIN:VCALENDAR
VERSION:2.0
X-WR-CALNAME:COGS 120 (A00) - Interaction Design
METHOD:PUBLISH
BEGIN:VEVENT
ORGANIZER:
DTSTART:20220315T150000Z
DTEND:20220315T175900Z
LOCATION: TBA
UID:620260423T231718Z
DTSTAMP:20260423T231718Z
SUMMARY:COGS 120 (A00) (FI)
DESCRIPTION:
PRIORITY:5
CLASS:PUBLIC
END:VEVENT
END:VCALENDAR