BEGIN:VCALENDAR
VERSION:2.0
X-WR-CALNAME:LISP 1CX (D00) - Analysis of Spanish
METHOD:PUBLISH
BEGIN:VEVENT
ORGANIZER:
DTSTART:20260315T020000Z
DTEND:20260315T045900Z
LOCATION: TBA
UID:220260423T221551Z
DTSTAMP:20260423T221551Z
SUMMARY:LISP 1CX (D00) (FI)
DESCRIPTION:
PRIORITY:5
CLASS:PUBLIC
END:VEVENT
END:VCALENDAR