BEGIN:VCALENDAR
VERSION:2.0
X-WR-CALNAME:BILD 2 (A00) - Multicellular Life
METHOD:PUBLISH
BEGIN:VEVENT
ORGANIZER:
DTSTART:20200609T220000Z
DTEND:20200610T005900Z
LOCATION: TBA
UID:820260423T222539Z
DTSTAMP:20260423T222539Z
SUMMARY:BILD 2 (A00) (FI)
DESCRIPTION:
PRIORITY:5
CLASS:PUBLIC
END:VEVENT
END:VCALENDAR