BEGIN:VCALENDAR
VERSION:2.0
X-WR-CALNAME:PSYC 193L (C00) - Psychology Laboratory Topics
METHOD:PUBLISH
BEGIN:VEVENT
ORGANIZER:
DTSTART:20241212T193000Z
DTEND:20241212T222900Z
LOCATION: TBA
UID:320260424T002431Z
DTSTAMP:20260424T002431Z
SUMMARY:PSYC 193L (C00) (FI)
DESCRIPTION:
PRIORITY:5
CLASS:PUBLIC
END:VEVENT
END:VCALENDAR