BEGIN:VCALENDAR
VERSION:2.0
X-WR-CALNAME:PHYS 2CL (A00) - Phys Lab-Elec&Magnetism
METHOD:PUBLISH
BEGIN:VEVENT
ORGANIZER:
DTSTART:20241213T030000Z
DTEND:20241213T055900Z
LOCATION: TBA
UID:1120260423T232748Z
DTSTAMP:20260423T232748Z
SUMMARY:PHYS 2CL (A00) (FI)
DESCRIPTION:
PRIORITY:5
CLASS:PUBLIC
END:VEVENT
END:VCALENDAR