BEGIN:VCALENDAR
VERSION:2.0
X-WR-CALNAME:PHYS 2C (B00) - Physics-Flu,Wav,Thrmdyn,Optics
METHOD:PUBLISH
BEGIN:VEVENT
ORGANIZER:
DTSTART:20241211T160000Z
DTEND:20241211T185900Z
LOCATION: TBA
UID:1520260424T000206Z
DTSTAMP:20260424T000206Z
SUMMARY:PHYS 2C (B00) (FI)
DESCRIPTION:
PRIORITY:5
CLASS:PUBLIC
END:VEVENT
END:VCALENDAR