BEGIN:VCALENDAR
VERSION:2.0
X-WR-CALNAME:CHEM 219A (A00) - Special Topics in Biochemistry
METHOD:PUBLISH
BEGIN:VEVENT
ORGANIZER:
DTSTART:20211208T193000Z
DTEND:20211208T222900Z
LOCATION: TBA
UID:220260423T212655Z
DTSTAMP:20260423T212655Z
SUMMARY:CHEM 219A (A00) (FI)
DESCRIPTION:
PRIORITY:5
CLASS:PUBLIC
END:VEVENT
END:VCALENDAR