BEGIN:VCALENDAR
VERSION:2.0
X-WR-CALNAME:MAE 208 (A00) - Mathematics for Engineers
METHOD:PUBLISH
BEGIN:VEVENT
ORGANIZER:
DTSTART:20241210T193000Z
DTEND:20241210T222900Z
LOCATION: TBA
UID:220260424T001841Z
DTSTAMP:20260424T001841Z
SUMMARY:MAE 208 (A00) (FI)
DESCRIPTION:
PRIORITY:5
CLASS:PUBLIC
END:VEVENT
END:VCALENDAR