BEGIN:VCALENDAR
VERSION:2.0
X-WR-CALNAME:LIPO 1AX (B00) - Analysis of Portuguese
METHOD:PUBLISH
BEGIN:VEVENT
ORGANIZER:
DTSTART:20241212T230000Z
DTEND:20241213T015900Z
LOCATION: TBA
UID:220260424T001841Z
DTSTAMP:20260424T001841Z
SUMMARY:LIPO 1AX (B00) (FI)
DESCRIPTION:
PRIORITY:5
CLASS:PUBLIC
END:VEVENT
END:VCALENDAR