BEGIN:VCALENDAR
VERSION:2.0
X-WR-CALNAME:POLI 30D (A00) - Political Inquiry
METHOD:PUBLISH
BEGIN:VEVENT
ORGANIZER:
DTSTART:20211209T193000Z
DTEND:20211209T222900Z
LOCATION: TBA
UID:1120260423T213610Z
DTSTAMP:20260423T213610Z
SUMMARY:POLI 30D (A00) (FI)
DESCRIPTION:
PRIORITY:5
CLASS:PUBLIC
END:VEVENT
END:VCALENDAR