BEGIN:VCALENDAR
VERSION:2.0
X-WR-CALNAME:DOC 100D (A00) - Promises&Contradictions/USCult
METHOD:PUBLISH
BEGIN:VEVENT
ORGANIZER:
DTSTART:20241210T230000Z
DTEND:20241211T015900Z
LOCATION: TBA
UID:220260423T215956Z
DTSTAMP:20260423T215956Z
SUMMARY:DOC 100D (A00) (FI)
DESCRIPTION:
PRIORITY:5
CLASS:PUBLIC
END:VEVENT
END:VCALENDAR