BEGIN:VCALENDAR
VERSION:2.0
X-WR-CALNAME:DSC 190 (E00) - Topics in Data Science
METHOD:PUBLISH
BEGIN:VEVENT
ORGANIZER:
DTSTART:20241212T160000Z
DTEND:20241212T185900Z
LOCATION: TBA
UID:320260423T225337Z
DTSTAMP:20260423T225337Z
SUMMARY:DSC 190 (E00) (FI)
DESCRIPTION:
PRIORITY:5
CLASS:PUBLIC
END:VEVENT
END:VCALENDAR