BEGIN:VCALENDAR
VERSION:2.0
X-WR-CALNAME:ECE 253 (A00) - Fundmntls/Digital Image Proces
METHOD:PUBLISH
BEGIN:VEVENT
ORGANIZER:
DTSTART:20211208T030000Z
DTEND:20211208T055900Z
LOCATION: TBA
UID:220260423T230226Z
DTSTAMP:20260423T230226Z
SUMMARY:ECE 253 (A00) (FI)
DESCRIPTION:
PRIORITY:5
CLASS:PUBLIC
END:VEVENT
END:VCALENDAR