BEGIN:VCALENDAR
VERSION:2.0
X-WR-CALNAME:ECE 35 (B00) - Introduction to Analog Design
METHOD:PUBLISH
BEGIN:VEVENT
ORGANIZER:
DTSTART:20211209T193000Z
DTEND:20211209T222900Z
LOCATION: TBA
UID:1020260423T223326Z
DTSTAMP:20260423T223326Z
SUMMARY:ECE 35 (B00) (FI)
DESCRIPTION:
PRIORITY:5
CLASS:PUBLIC
END:VEVENT
END:VCALENDAR