BEGIN:VCALENDAR
VERSION:2.0
X-WR-CALNAME:CSE 20 (A00) - Discrete Mathematics
METHOD:PUBLISH
BEGIN:VEVENT
ORGANIZER:
DTSTART:20211209T193000Z
DTEND:20211209T222900Z
LOCATION: TBA
UID:320260423T234039Z
DTSTAMP:20260423T234039Z
SUMMARY:CSE 20 (A00) (FI)
DESCRIPTION:
PRIORITY:5
CLASS:PUBLIC
END:VEVENT
END:VCALENDAR