BEGIN:VCALENDAR
VERSION:2.0
X-WR-CALNAME:COGS 108 (A00) - Data Science in Practice
METHOD:PUBLISH
BEGIN:VEVENT
ORGANIZER:
DTSTART:20211210T160000Z
DTEND:20211210T185900Z
LOCATION: TBA
UID:920260423T215244Z
DTSTAMP:20260423T215244Z
SUMMARY:COGS 108 (A00) (FI)
DESCRIPTION:
PRIORITY:5
CLASS:PUBLIC
END:VEVENT
END:VCALENDAR