BEGIN:VCALENDAR
VERSION:2.0
X-WR-CALNAME:COGS 18 (A00) - Introduction to Python
METHOD:PUBLISH
BEGIN:VEVENT
ORGANIZER:
DTSTART:20211206T160000Z
DTEND:20211206T185900Z
LOCATION: TBA
UID:1120260423T230815Z
DTSTAMP:20260423T230815Z
SUMMARY:COGS 18 (A00) (FI)
DESCRIPTION:
PRIORITY:5
CLASS:PUBLIC
END:VEVENT
END:VCALENDAR