BEGIN:VCALENDAR
VERSION:2.0
X-WR-CALNAME:COGS 17 (A00) - Neurobiology of Cognition
METHOD:PUBLISH
BEGIN:VEVENT
ORGANIZER:
DTSTART:20211211T030000Z
DTEND:20211211T055900Z
LOCATION: TBA
UID:820260423T223700Z
DTSTAMP:20260423T223700Z
SUMMARY:COGS 17 (A00) (FI)
DESCRIPTION:
PRIORITY:5
CLASS:PUBLIC
END:VEVENT
END:VCALENDAR