BEGIN:VCALENDAR
VERSION:2.0
X-WR-CALNAME:ANTH 23 (B00) - Debating Multiculturalism
METHOD:PUBLISH
BEGIN:VEVENT
ORGANIZER:
DTSTART:20211206T193000Z
DTEND:20211206T222900Z
LOCATION: TBA
UID:420260424T000525Z
DTSTAMP:20260424T000525Z
SUMMARY:ANTH 23 (B00) (FI)
DESCRIPTION:
PRIORITY:5
CLASS:PUBLIC
END:VEVENT
END:VCALENDAR