BEGIN:VCALENDAR
VERSION:2.0
X-WR-CALNAME:SIO 1 (A00) - The Planets
METHOD:PUBLISH
BEGIN:VEVENT
ORGANIZER:
DTSTART:20240802T150000Z
DTEND:20240802T175900Z
LOCATION: TBA
UID:320260424T003115Z
DTSTAMP:20260424T003115Z
SUMMARY:SIO 1 (A00) (FI)
DESCRIPTION:
PRIORITY:5
CLASS:PUBLIC
END:VEVENT
END:VCALENDAR