BEGIN:VCALENDAR
VERSION:2.0
X-WR-CALNAME:MATH 140A (B00) - Foundations of Real Analysis I
METHOD:PUBLISH
BEGIN:VEVENT
ORGANIZER:
DTSTART:20211208T230000Z
DTEND:20211209T015900Z
LOCATION: TBA
UID:420260423T224649Z
DTSTAMP:20260423T224649Z
SUMMARY:MATH 140A (B00) (FI)
DESCRIPTION:
PRIORITY:5
CLASS:PUBLIC
END:VEVENT
END:VCALENDAR