BEGIN:VCALENDAR
VERSION:2.0
X-WR-CALNAME:POLI 12D (A00) - Intro/Poli Sci:Int'l Relations
METHOD:PUBLISH
BEGIN:VEVENT
ORGANIZER:
DTSTART:20200610T150000Z
DTEND:20200610T175900Z
LOCATION: TBA
UID:820260423T224250Z
DTSTAMP:20260423T224250Z
SUMMARY:POLI 12D (A00) (FI)
DESCRIPTION:
PRIORITY:5
CLASS:PUBLIC
END:VEVENT
END:VCALENDAR