BEGIN:VCALENDAR
VERSION:2.0
X-WR-CALNAME:CSE 140 (A00) - Component&Desgn Tech/Digtl Sys
METHOD:PUBLISH
BEGIN:VEVENT
ORGANIZER:
DTSTART:20240906T183000Z
DTEND:20240906T212900Z
LOCATION: TBA
UID:320260423T223326Z
DTSTAMP:20260423T223326Z
SUMMARY:CSE 140 (A00) (FI)
DESCRIPTION:
PRIORITY:5
CLASS:PUBLIC
END:VEVENT
END:VCALENDAR