BEGIN:VCALENDAR
VERSION:2.0
X-WR-CALNAME:BENG 125 (A00) - Modeling & Computatio/Bioengr
METHOD:PUBLISH
BEGIN:VEVENT
ORGANIZER:
DTSTART:20210607T183000Z
DTEND:20210607T212900Z
LOCATION: TBA
UID:820260423T224649Z
DTSTAMP:20260423T224649Z
SUMMARY:BENG 125 (A00) (FI)
DESCRIPTION:
PRIORITY:5
CLASS:PUBLIC
END:VEVENT
END:VCALENDAR