BEGIN:VCALENDAR
VERSION:2.0
X-WR-CALNAME:INTL 101 (A00) - Cult & Society/Intrn'l Perspec
METHOD:PUBLISH
BEGIN:VEVENT
ORGANIZER:
DTSTART:20210607T220000Z
DTEND:20210608T005900Z
LOCATION: TBA
UID:1020260423T224011Z
DTSTAMP:20260423T224011Z
SUMMARY:INTL 101 (A00) (FI)
DESCRIPTION:
PRIORITY:5
CLASS:PUBLIC
END:VEVENT
END:VCALENDAR