BEGIN:VCALENDAR
VERSION:2.0
X-WR-CALNAME:ETHN 112C (A00) - California Native Am. History
METHOD:PUBLISH
BEGIN:VEVENT
ORGANIZER:
DTSTART:20210611T020000Z
DTEND:20210611T045900Z
LOCATION: TBA
UID:220260423T232135Z
DTSTAMP:20260423T232135Z
SUMMARY:ETHN 112C (A00) (FI)
DESCRIPTION:
PRIORITY:5
CLASS:PUBLIC
END:VEVENT
END:VCALENDAR