BEGIN:VCALENDAR
VERSION:2.0
X-WR-CALNAME:PHYS 152B (A00) - Electronic Materials
METHOD:PUBLISH
BEGIN:VEVENT
ORGANIZER:
DTSTART:20240610T183000Z
DTEND:20240610T212900Z
LOCATION: TBA
UID:320260424T000207Z
DTSTAMP:20260424T000207Z
SUMMARY:PHYS 152B (A00) (FI)
DESCRIPTION:
PRIORITY:5
CLASS:PUBLIC
END:VEVENT
END:VCALENDAR