BEGIN:VCALENDAR
VERSION:2.0
X-WR-CALNAME:GPIM 439 (A00) - Bus/Mgmt in a Disrupted World
METHOD:PUBLISH
BEGIN:VEVENT
ORGANIZER:
DTSTART:20240611T220000Z
DTEND:20240612T010000Z
LOCATION: TBA
UID:220260423T235812Z
DTSTAMP:20260423T235812Z
SUMMARY:GPIM 439 (A00) (FI)
DESCRIPTION:
PRIORITY:5
CLASS:PUBLIC
END:VEVENT
END:VCALENDAR