BEGIN:VCALENDAR
VERSION:2.0
X-WR-CALNAME:POLI 150A (A00) - Politics of Immigration
METHOD:PUBLISH
BEGIN:VEVENT
ORGANIZER:
DTSTART:20240611T150000Z
DTEND:20240611T175900Z
LOCATION: TBA
UID:220260423T234039Z
DTSTAMP:20260423T234039Z
SUMMARY:POLI 150A (A00) (FI)
DESCRIPTION:
PRIORITY:5
CLASS:PUBLIC
END:VEVENT
END:VCALENDAR