BEGIN:VCALENDAR
VERSION:2.0
X-WR-CALNAME:PHYS 4E (A00) - Physics Majors-Quantum Physics
METHOD:PUBLISH
BEGIN:VEVENT
ORGANIZER:
DTSTART:20210611T220000Z
DTEND:20210612T005900Z
LOCATION: TBA
UID:620260423T235101Z
DTSTAMP:20260423T235101Z
SUMMARY:PHYS 4E (A00) (FI)
DESCRIPTION:
PRIORITY:5
CLASS:PUBLIC
END:VEVENT
END:VCALENDAR