BEGIN:VCALENDAR
VERSION:2.0
X-WR-CALNAME:CHEM 100A (A00) - Analytical Chemistry Lab
METHOD:PUBLISH
BEGIN:VEVENT
ORGANIZER:
DTSTART:20240612T183000Z
DTEND:20240612T212900Z
LOCATION: TBA
UID:820260424T000315Z
DTSTAMP:20260424T000315Z
SUMMARY:CHEM 100A (A00) (FI)
DESCRIPTION:
PRIORITY:5
CLASS:PUBLIC
END:VEVENT
END:VCALENDAR