BEGIN:VCALENDAR
VERSION:2.0
X-WR-CALNAME:SIOC 211A (A00) - Ocean Waves I
METHOD:PUBLISH
BEGIN:VEVENT
ORGANIZER:
DTSTART:20240319T150000Z
DTEND:20240319T175900Z
LOCATION: TBA
UID:220260423T235934Z
DTSTAMP:20260423T235934Z
SUMMARY:SIOC 211A (A00) (FI)
DESCRIPTION:
PRIORITY:5
CLASS:PUBLIC
END:VEVENT
END:VCALENDAR