BEGIN:VCALENDAR
VERSION:2.0
X-WR-CALNAME:MATH 171A (A00) - Intro Num Optimiz/Linear Prog
METHOD:PUBLISH
BEGIN:VEVENT
ORGANIZER:
DTSTART:20240319T220000Z
DTEND:20240320T005900Z
LOCATION: TBA
UID:720260423T230226Z
DTSTAMP:20260423T230226Z
SUMMARY:MATH 171A (A00) (FI)
DESCRIPTION:
PRIORITY:5
CLASS:PUBLIC
END:VEVENT
END:VCALENDAR