BEGIN:VCALENDAR
VERSION:2.0
X-WR-CALNAME:CSE 140 (B00) - Component&Desgn Tech/Digtl Sys
METHOD:PUBLISH
BEGIN:VEVENT
ORGANIZER:
DTSTART:20240202T040000Z
DTEND:20240202T055000Z
LOCATION: 
UID:320260423T235934Z
DTSTAMP:20260423T235934Z
SUMMARY:CSE 140 (B00) (MI)
DESCRIPTION:
PRIORITY:5
CLASS:PUBLIC
END:VEVENT
BEGIN:VEVENT
ORGANIZER:
DTSTART:20240223T040000Z
DTEND:20240223T055000Z
LOCATION: 
UID:420260423T235934Z
DTSTAMP:20260423T235934Z
SUMMARY:CSE 140 (B00) (MI)
DESCRIPTION:
PRIORITY:5
CLASS:PUBLIC
END:VEVENT
BEGIN:VEVENT
ORGANIZER:
DTSTART:20240315T030000Z
DTEND:20240315T045000Z
LOCATION: 
UID:520260423T235934Z
DTSTAMP:20260423T235934Z
SUMMARY:CSE 140 (B00) (MI)
DESCRIPTION:
PRIORITY:5
CLASS:PUBLIC
END:VEVENT
BEGIN:VEVENT
ORGANIZER:
DTSTART:20240321T220000Z
DTEND:20240322T005900Z
LOCATION: TBA
UID:620260423T235934Z
DTSTAMP:20260423T235934Z
SUMMARY:CSE 140 (B00) (FI)
DESCRIPTION:
PRIORITY:5
CLASS:PUBLIC
END:VEVENT
END:VCALENDAR