BEGIN:VCALENDAR
VERSION:2.0
X-WR-CALNAME:CSE 100R (A00) - Advanced Data Structures
METHOD:PUBLISH
BEGIN:VEVENT
ORGANIZER:
DTSTART:20240210T160000Z
DTEND:20240210T165000Z
LOCATION:RCLAS R02
UID:320260423T233341Z
DTSTAMP:20260423T233341Z
SUMMARY:CSE 100R (A00) (MI)
DESCRIPTION:
PRIORITY:5
CLASS:PUBLIC
END:VEVENT
BEGIN:VEVENT
ORGANIZER:
DTSTART:20240320T150000Z
DTEND:20240320T175900Z
LOCATION: TBA
UID:420260423T233341Z
DTSTAMP:20260423T233341Z
SUMMARY:CSE 100R (A00) (FI)
DESCRIPTION:
PRIORITY:5
CLASS:PUBLIC
END:VEVENT
END:VCALENDAR