BEGIN:VCALENDAR
VERSION:2.0
X-WR-CALNAME:CSE 15L (A00) - Software Tools&Techniques Lab
METHOD:PUBLISH
BEGIN:VEVENT
ORGANIZER:
DTSTART:20240320T150000Z
DTEND:20240320T175900Z
LOCATION: TBA
UID:1020260423T231638Z
DTSTAMP:20260423T231638Z
SUMMARY:CSE 15L (A00) (FI)
DESCRIPTION:
PRIORITY:5
CLASS:PUBLIC
END:VEVENT
END:VCALENDAR